BEGIN:VCALENDAR
VERSION:2.0
PRODID:-//NUS Dentistry - ECPv6.6.3//NONSGML v1.0//EN
CALSCALE:GREGORIAN
METHOD:PUBLISH
X-WR-CALNAME:NUS Dentistry
X-ORIGINAL-URL:https://www.dentistry.nus.edu.sg
X-WR-CALDESC:Events for NUS Dentistry
REFRESH-INTERVAL;VALUE=DURATION:PT1H
X-Robots-Tag:noindex
X-PUBLISHED-TTL:PT1H
BEGIN:VTIMEZONE
TZID:UTC
BEGIN:STANDARD
TZOFFSETFROM:+0000
TZOFFSETTO:+0000
TZNAME:UTC
DTSTART:20190101T000000
END:STANDARD
END:VTIMEZONE
BEGIN:VEVENT
DTSTART;VALUE=DATE:20190831
DTEND;VALUE=DATE:20190901
DTSTAMP:20260425T133704
CREATED:20250926T025626Z
LAST-MODIFIED:20250926T025626Z
UID:14083-1567209600-1567295999@www.dentistry.nus.edu.sg
SUMMARY:Faculty of Dentistry 90th Anniversary Gala Dinner
DESCRIPTION:
URL:https://www.dentistry.nus.edu.sg/event/faculty-of-dentistry-90th-anniversary-gala-dinner/
CATEGORIES:Past Events
ATTACH;FMTTYPE=image/avif:https://www.dentistry.nus.edu.sg/wp-content/uploads/2025/09/FOD-Gala-Featured.avif
END:VEVENT
END:VCALENDAR