BEGIN:VCALENDAR
VERSION:2.0
PRODID:-//NUS Dentistry - ECPv6.6.3//NONSGML v1.0//EN
CALSCALE:GREGORIAN
METHOD:PUBLISH
X-WR-CALNAME:NUS Dentistry
X-ORIGINAL-URL:https://www.dentistry.nus.edu.sg
X-WR-CALDESC:Events for NUS Dentistry
REFRESH-INTERVAL;VALUE=DURATION:PT1H
X-Robots-Tag:noindex
X-PUBLISHED-TTL:PT1H
BEGIN:VTIMEZONE
TZID:UTC
BEGIN:STANDARD
TZOFFSETFROM:+0000
TZOFFSETTO:+0000
TZNAME:UTC
DTSTART:20250101T000000
END:STANDARD
END:VTIMEZONE
BEGIN:VEVENT
DTSTART;VALUE=DATE:20250920
DTEND;VALUE=DATE:20250921
DTSTAMP:20260424T163640
CREATED:20250926T033047Z
LAST-MODIFIED:20251126T021848Z
UID:14125-1758326400-1758412799@www.dentistry.nus.edu.sg
SUMMARY:BDS Class of 2015 – 10th Anniversary Dinner
DESCRIPTION:
URL:https://www.dentistry.nus.edu.sg/event/bds-class-of-2015-10th-anniversary-dinner/
CATEGORIES:Past Events
ATTACH;FMTTYPE=image/avif:https://www.dentistry.nus.edu.sg/wp-content/uploads/2025/09/reunion-big-photo.avif
END:VEVENT
END:VCALENDAR