BEGIN:VCALENDAR
VERSION:2.0
PRODID:-//NUS Dentistry - ECPv6.6.3//NONSGML v1.0//EN
CALSCALE:GREGORIAN
METHOD:PUBLISH
X-WR-CALNAME:NUS Dentistry
X-ORIGINAL-URL:https://www.dentistry.nus.edu.sg
X-WR-CALDESC:Events for NUS Dentistry
REFRESH-INTERVAL;VALUE=DURATION:PT1H
X-Robots-Tag:noindex
X-PUBLISHED-TTL:PT1H
BEGIN:VTIMEZONE
TZID:UTC
BEGIN:STANDARD
TZOFFSETFROM:+0000
TZOFFSETTO:+0000
TZNAME:UTC
DTSTART:20250101T000000
END:STANDARD
END:VTIMEZONE
BEGIN:VEVENT
DTSTART;TZID=UTC:20250514T183000
DTEND;TZID=UTC:20250514T200000
DTSTAMP:20260420T184516
CREATED:20251224T044804Z
LAST-MODIFIED:20251224T045144Z
UID:14343-1747247400-1747252800@www.dentistry.nus.edu.sg
SUMMARY:Digital Endodontics Relevant for Current Clinical Practice?
DESCRIPTION:Date:\n14th May 2025\, 7-8pm (light refreshments available from 6:30pm) \n\n\nVenue:\nNational University Centre for Oral Health Singapore\, Auditorium L9 \n\n\nEvent Type:\nLecture/Sharing Session \n\n\nTarget Audience:\nDental Students \n\n\nTrainer / Instructor:\nDR. OVE A. PETERS\, DMD MS PHD \n\n\nFlyer:\nView PDF \n\n\nOrganised by:\nSOCIETY OF ENDODONTISTS SINGAPORE & NUS National University of Singapore \n\n\n\n\nProgramme Details:\nDigital technologies are increasingly shaping modern endodontic practice\, offering enhanced diagnostic capabilities\, procedural precision\, and new opportunities for clinical efficiency. While tactile skill remains foundational\, advancements such as cone beam computed tomography (CBСT) have redefined diagnostic imaging with regards to periapical pathosis and complex canal anatomies. Dental Magnetic resonance tomography (dMRI) has the potential for a relevant next step in diagnostics. Other emerging tools include Al-driven decision-making enhancement\, 3D printed guides for minimally invasive access\, and dynamic navigation systems that integrate CBCT data into real-time visualisation during procedures. These innovations-though currently not fully implemented even specialist settings-signal a shift toward more predictable and streamlined treatment planning and treatment. \n\n\n\n\n\n\n\n    \n        Back
URL:https://www.dentistry.nus.edu.sg/event/digital-endodontics-relevant-for-current-clinical-practice/
CATEGORIES:Past Events
ATTACH;FMTTYPE=image/png:https://www.dentistry.nus.edu.sg/wp-content/uploads/2025/12/bluewhite.png
END:VEVENT
END:VCALENDAR