BEGIN:VCALENDAR
VERSION:2.0
PRODID:-//NUS Dentistry - ECPv6.6.3//NONSGML v1.0//EN
CALSCALE:GREGORIAN
METHOD:PUBLISH
X-ORIGINAL-URL:https://www.dentistry.nus.edu.sg
X-WR-CALDESC:Events for NUS Dentistry
REFRESH-INTERVAL;VALUE=DURATION:PT1H
X-Robots-Tag:noindex
X-PUBLISHED-TTL:PT1H
BEGIN:VTIMEZONE
TZID:UTC
BEGIN:STANDARD
TZOFFSETFROM:+0000
TZOFFSETTO:+0000
TZNAME:UTC
DTSTART:20120101T000000
END:STANDARD
END:VTIMEZONE
BEGIN:VEVENT
DTSTART;VALUE=DATE:20240831
DTEND;VALUE=DATE:20240901
DTSTAMP:20260423T225824
CREATED:20250926T032058Z
LAST-MODIFIED:20250926T032058Z
UID:14110-1725062400-1725148799@www.dentistry.nus.edu.sg
SUMMARY:BDS Class of 2014 - 10th Anniversary Reunion
DESCRIPTION:
URL:https://www.dentistry.nus.edu.sg/event/bds-class-of-2014-10th-anniversary-reunion-2/
CATEGORIES:Past Events
ATTACH;FMTTYPE=image/avif:https://www.dentistry.nus.edu.sg/wp-content/uploads/2025/09/Pict1-1.avif
END:VEVENT
BEGIN:VEVENT
DTSTART;VALUE=DATE:20240727
DTEND;VALUE=DATE:20240728
DTSTAMP:20260423T225824
CREATED:20250926T031629Z
LAST-MODIFIED:20250926T031629Z
UID:14107-1722038400-1722124799@www.dentistry.nus.edu.sg
SUMMARY:BDS Class of 1994 - 30th Anniversary Reunion
DESCRIPTION:
URL:https://www.dentistry.nus.edu.sg/event/bds-class-of-1994-30th-anniversary-reunion-2/
CATEGORIES:Past Events
ATTACH;FMTTYPE=image/avif:https://www.dentistry.nus.edu.sg/wp-content/uploads/2025/09/Pict-3.avif
END:VEVENT
BEGIN:VEVENT
DTSTART;TZID=UTC:20240723T130000
DTEND;TZID=UTC:20240723T140000
DTSTAMP:20260423T225824
CREATED:20250206T100814Z
LAST-MODIFIED:20250206T100814Z
UID:8140-1721739600-1721743200@www.dentistry.nus.edu.sg
SUMMARY:Oral Healthcare for Older Adults: Are We Providing Evidence-based Treatment?
DESCRIPTION:
URL:https://www.dentistry.nus.edu.sg/event/oral-healthcare-for-older-adults-are-we-providing-evidence-based-treatment/
LOCATION:Level 9 Auditorium
CATEGORIES:Past Events
ATTACH;FMTTYPE=image/jpeg:https://www.dentistry.nus.edu.sg/wp-content/uploads/2025/02/oral-healthcare-for-older-adults.jpg
END:VEVENT
BEGIN:VEVENT
DTSTART;VALUE=DATE:20240706
DTEND;VALUE=DATE:20240707
DTSTAMP:20260423T225824
CREATED:20250926T031439Z
LAST-MODIFIED:20250926T031439Z
UID:14104-1720224000-1720310399@www.dentistry.nus.edu.sg
SUMMARY:BDS Class of 1979 - 45th Anniversary Reunion
DESCRIPTION:
URL:https://www.dentistry.nus.edu.sg/event/bds-class-of-1979-45th-anniversary-reunion-2/
CATEGORIES:Past Events
ATTACH;FMTTYPE=image/avif:https://www.dentistry.nus.edu.sg/wp-content/uploads/2025/09/Pict-1.avif
END:VEVENT
BEGIN:VEVENT
DTSTART;VALUE=DATE:20231111
DTEND;VALUE=DATE:20231112
DTSTAMP:20260423T225824
CREATED:20250926T031014Z
LAST-MODIFIED:20250926T031014Z
UID:14098-1699660800-1699747199@www.dentistry.nus.edu.sg
SUMMARY:Bachelor of Dental Surgery (Class of 2011) Alumni Reunion
DESCRIPTION:
URL:https://www.dentistry.nus.edu.sg/event/bachelor-of-dental-surgery-class-of-2011-alumni-reunion-2/
CATEGORIES:Past Events
ATTACH;FMTTYPE=image/avif:https://www.dentistry.nus.edu.sg/wp-content/uploads/2025/09/Pict-1-3.avif
END:VEVENT
BEGIN:VEVENT
DTSTART;VALUE=DATE:20230327
DTEND;VALUE=DATE:20230328
DTSTAMP:20260423T225824
CREATED:20250926T031307Z
LAST-MODIFIED:20250926T031307Z
UID:14101-1679875200-1679961599@www.dentistry.nus.edu.sg
SUMMARY:Alumni Talk: Charting the Course: Dentistry's Vision for Tomorrow
DESCRIPTION:
URL:https://www.dentistry.nus.edu.sg/event/alumni-talk-charting-the-course-dentistrys-vision-for-tomorrow-2/
CATEGORIES:Past Events
ATTACH;FMTTYPE=image/avif:https://www.dentistry.nus.edu.sg/wp-content/uploads/2025/09/Pict-1-2.avif
END:VEVENT
BEGIN:VEVENT
DTSTART;VALUE=DATE:20230302
DTEND;VALUE=DATE:20230303
DTSTAMP:20260423T225824
CREATED:20250926T030741Z
LAST-MODIFIED:20250926T030741Z
UID:14095-1677715200-1677801599@www.dentistry.nus.edu.sg
SUMMARY:Alumni Talk: The 4th Industrial Revolution in Dentistry
DESCRIPTION:
URL:https://www.dentistry.nus.edu.sg/event/alumni-talk-the-4th-industrial-revolution-in-dentistry-2/
CATEGORIES:Past Events
ATTACH;FMTTYPE=image/avif:https://www.dentistry.nus.edu.sg/wp-content/uploads/2025/09/unnamed-24.avif
END:VEVENT
BEGIN:VEVENT
DTSTART;VALUE=DATE:20221115
DTEND;VALUE=DATE:20221116
DTSTAMP:20260423T225824
CREATED:20250926T030537Z
LAST-MODIFIED:20250926T030537Z
UID:14092-1668470400-1668556799@www.dentistry.nus.edu.sg
SUMMARY:Visit by Class of '71 (Bachelor of Dental Surgery)
DESCRIPTION:
URL:https://www.dentistry.nus.edu.sg/event/visit-by-class-of-71-bachelor-of-dental-surgery/
CATEGORIES:Past Events
ATTACH;FMTTYPE=image/avif:https://www.dentistry.nus.edu.sg/wp-content/uploads/2025/09/Class-71-Visit-Featured.avif
END:VEVENT
BEGIN:VEVENT
DTSTART;VALUE=DATE:20220727
DTEND;VALUE=DATE:20220728
DTSTAMP:20260423T225824
CREATED:20250926T030354Z
LAST-MODIFIED:20250926T030354Z
UID:14089-1658880000-1658966399@www.dentistry.nus.edu.sg
SUMMARY:Faculty of Dentistry Alumni Dinner 2022
DESCRIPTION:
URL:https://www.dentistry.nus.edu.sg/event/faculty-of-dentistry-alumni-dinner-2022-2/
CATEGORIES:Past Events
ATTACH;FMTTYPE=image/avif:https://www.dentistry.nus.edu.sg/wp-content/uploads/2025/09/FOD-Dinner-22-Featured.avif
END:VEVENT
BEGIN:VEVENT
DTSTART;VALUE=DATE:20220511
DTEND;VALUE=DATE:20220512
DTSTAMP:20260423T225824
CREATED:20250926T025846Z
LAST-MODIFIED:20250926T025846Z
UID:14086-1652227200-1652313599@www.dentistry.nus.edu.sg
SUMMARY:Visit by Class of '72
DESCRIPTION:
URL:https://www.dentistry.nus.edu.sg/event/visit-by-class-of-72/
CATEGORIES:Past Events
ATTACH;FMTTYPE=image/avif:https://www.dentistry.nus.edu.sg/wp-content/uploads/2025/09/Class-72-Visit-Featured.avif
END:VEVENT
BEGIN:VEVENT
DTSTART;VALUE=DATE:20190831
DTEND;VALUE=DATE:20190901
DTSTAMP:20260423T225824
CREATED:20250926T025626Z
LAST-MODIFIED:20250926T025626Z
UID:14083-1567209600-1567295999@www.dentistry.nus.edu.sg
SUMMARY:Faculty of Dentistry 90th Anniversary Gala Dinner
DESCRIPTION:
URL:https://www.dentistry.nus.edu.sg/event/faculty-of-dentistry-90th-anniversary-gala-dinner/
CATEGORIES:Past Events
ATTACH;FMTTYPE=image/avif:https://www.dentistry.nus.edu.sg/wp-content/uploads/2025/09/FOD-Gala-Featured.avif
END:VEVENT
BEGIN:VEVENT
DTSTART;VALUE=DATE:20181019
DTEND;VALUE=DATE:20181020
DTSTAMP:20260423T225824
CREATED:20250926T025418Z
LAST-MODIFIED:20250926T025418Z
UID:14080-1539907200-1539993599@www.dentistry.nus.edu.sg
SUMMARY:BDS Class of '78 Visits NUCOHS
DESCRIPTION:
URL:https://www.dentistry.nus.edu.sg/event/bds-class-of-78-visits-nucohs/
CATEGORIES:Past Events
ATTACH;FMTTYPE=image/avif:https://www.dentistry.nus.edu.sg/wp-content/uploads/2025/09/BDS-Featured.avif
END:VEVENT
BEGIN:VEVENT
DTSTART;VALUE=DATE:20180828
DTEND;VALUE=DATE:20180829
DTSTAMP:20260423T225824
CREATED:20250926T025227Z
LAST-MODIFIED:20250926T025227Z
UID:14077-1535414400-1535500799@www.dentistry.nus.edu.sg
SUMMARY:Alumni Visit to NUCOHS 2018
DESCRIPTION:
URL:https://www.dentistry.nus.edu.sg/event/alumni-visit-to-nucohs-2018/
CATEGORIES:Past Events
ATTACH;FMTTYPE=image/avif:https://www.dentistry.nus.edu.sg/wp-content/uploads/2025/09/Alumni-Visit-Featured.avif
END:VEVENT
BEGIN:VEVENT
DTSTART;VALUE=DATE:20170929
DTEND;VALUE=DATE:20170930
DTSTAMP:20260423T225824
CREATED:20250926T025019Z
LAST-MODIFIED:20250926T025019Z
UID:14074-1506643200-1506729599@www.dentistry.nus.edu.sg
SUMMARY:Alumni Reunion Dinner 2017
DESCRIPTION:
URL:https://www.dentistry.nus.edu.sg/event/alumni-reunion-dinner-2017/
CATEGORIES:Past Events
ATTACH;FMTTYPE=image/avif:https://www.dentistry.nus.edu.sg/wp-content/uploads/2025/09/Featured.avif
END:VEVENT
BEGIN:VEVENT
DTSTART;VALUE=DATE:20151010
DTEND;VALUE=DATE:20151012
DTSTAMP:20260423T225824
CREATED:20250926T024536Z
LAST-MODIFIED:20250926T025048Z
UID:14071-1444435200-1444607999@www.dentistry.nus.edu.sg
SUMMARY:AA - FoD Symposium 2015
DESCRIPTION:
URL:https://www.dentistry.nus.edu.sg/event/aa-fod-symposium-2015/
CATEGORIES:Past Events
ATTACH;FMTTYPE=image/avif:https://www.dentistry.nus.edu.sg/wp-content/uploads/2025/09/AA-FOD-pic-13.avif
END:VEVENT
BEGIN:VEVENT
DTSTART;VALUE=DATE:20151002
DTEND;VALUE=DATE:20151003
DTSTAMP:20260423T225824
CREATED:20250926T024332Z
LAST-MODIFIED:20250926T024332Z
UID:14068-1443744000-1443830399@www.dentistry.nus.edu.sg
SUMMARY:5th FOD Alumni Reunion Dinner
DESCRIPTION:
URL:https://www.dentistry.nus.edu.sg/event/5th-fod-alumni-reunion-dinner/
CATEGORIES:Past Events
ATTACH;FMTTYPE=image/avif:https://www.dentistry.nus.edu.sg/wp-content/uploads/2025/09/Pict1.avif
END:VEVENT
BEGIN:VEVENT
DTSTART;VALUE=DATE:20130927
DTEND;VALUE=DATE:20130928
DTSTAMP:20260423T225824
CREATED:20250926T024057Z
LAST-MODIFIED:20250926T024057Z
UID:14065-1380240000-1380326399@www.dentistry.nus.edu.sg
SUMMARY:4th FOD Alumni Reunion dinner
DESCRIPTION:
URL:https://www.dentistry.nus.edu.sg/event/4th-fod-alumni-reunion-dinner/
CATEGORIES:Past Events
ATTACH;FMTTYPE=image/avif:https://www.dentistry.nus.edu.sg/wp-content/uploads/2025/09/alumni2014.avif
END:VEVENT
BEGIN:VEVENT
DTSTART;VALUE=DATE:20130513
DTEND;VALUE=DATE:20130514
DTSTAMP:20260423T225824
CREATED:20250926T023737Z
LAST-MODIFIED:20250926T023737Z
UID:14062-1368403200-1368489599@www.dentistry.nus.edu.sg
SUMMARY:Visit by BDS Class of 1976 to Faculty of Dentistry
DESCRIPTION:
URL:https://www.dentistry.nus.edu.sg/event/visit-by-bds-class-of-1976-to-faculty-of-dentistry/
CATEGORIES:Past Events
ATTACH;FMTTYPE=image/avif:https://www.dentistry.nus.edu.sg/wp-content/uploads/2025/09/bds76.avif
END:VEVENT
BEGIN:VEVENT
DTSTART;VALUE=DATE:20120928
DTEND;VALUE=DATE:20120929
DTSTAMP:20260423T225824
CREATED:20250926T023353Z
LAST-MODIFIED:20250926T023451Z
UID:14059-1348790400-1348876799@www.dentistry.nus.edu.sg
SUMMARY:Alumni Reunion Dinner 2012
DESCRIPTION:
URL:https://www.dentistry.nus.edu.sg/event/alumni-reunion-dinner-2012/
CATEGORIES:Past Events
ATTACH;FMTTYPE=image/avif:https://www.dentistry.nus.edu.sg/wp-content/uploads/2025/09/alumni2012.avif
END:VEVENT
END:VCALENDAR