BEGIN:VCALENDAR
VERSION:2.0
PRODID:-//NUS Dentistry - ECPv6.6.3//NONSGML v1.0//EN
CALSCALE:GREGORIAN
METHOD:PUBLISH
X-WR-CALNAME:NUS Dentistry
X-ORIGINAL-URL:https://www.dentistry.nus.edu.sg
X-WR-CALDESC:Events for NUS Dentistry
REFRESH-INTERVAL;VALUE=DURATION:PT1H
X-Robots-Tag:noindex
X-PUBLISHED-TTL:PT1H
BEGIN:VTIMEZONE
TZID:UTC
BEGIN:STANDARD
TZOFFSETFROM:+0000
TZOFFSETTO:+0000
TZNAME:UTC
DTSTART:20250101T000000
END:STANDARD
END:VTIMEZONE
BEGIN:VEVENT
DTSTART;TZID=UTC:20250227T130000
DTEND;TZID=UTC:20250227T140000
DTSTAMP:20260425T075632
CREATED:20250206T100041Z
LAST-MODIFIED:20250617T030852Z
UID:8125-1740661200-1740664800@www.dentistry.nus.edu.sg
SUMMARY:Quick Guide to Sample Size Collection
DESCRIPTION:DATE:\n27 February 2025\nTIME:\n1:00 pm – 2:00 pm\nVENUE:\nSeminar Room S10-6\, NUS Faculty of Dentistry\, NUCOHS\nEVENT TYPE:\nSeminar\nTARGET AUDIENCE:\nStudents\nCPE POINTS:\n10\nORGANISED BY:\nCADE\nFlyer
URL:https://www.dentistry.nus.edu.sg/event/quick-guide-to-sample-size-collection/
LOCATION:Faculty of Dentistry\, NUCOHS Seminar Room S10-6
CATEGORIES:Upcoming Events
ATTACH;FMTTYPE=image/jpeg:https://www.dentistry.nus.edu.sg/wp-content/uploads/2025/02/quick-guide-to-sample-size-collection.jpg
END:VEVENT
END:VCALENDAR