BEGIN:VCALENDAR
VERSION:2.0
PRODID:-//NUS Dentistry - ECPv6.6.3//NONSGML v1.0//EN
CALSCALE:GREGORIAN
METHOD:PUBLISH
X-WR-CALNAME:NUS Dentistry
X-ORIGINAL-URL:https://www.dentistry.nus.edu.sg
X-WR-CALDESC:Events for NUS Dentistry
REFRESH-INTERVAL;VALUE=DURATION:PT1H
X-Robots-Tag:noindex
X-PUBLISHED-TTL:PT1H
BEGIN:VTIMEZONE
TZID:UTC
BEGIN:STANDARD
TZOFFSETFROM:+0000
TZOFFSETTO:+0000
TZNAME:UTC
DTSTART:20260101T000000
END:STANDARD
END:VTIMEZONE
BEGIN:VEVENT
DTSTART;TZID=UTC:20260225T120000
DTEND;TZID=UTC:20260531T235900
DTSTAMP:20260425T075556
CREATED:20250414T022306Z
LAST-MODIFIED:20260309T020645Z
UID:10714-1772020800-1780271940@www.dentistry.nus.edu.sg
SUMMARY:DentAlliance Webinars: From Access to Apex; Current Concepts in Contemporary Endodontics
DESCRIPTION:Date:\n25 February 2026 – 31 May 2026 \n\n\nVenue:\nNUS Faculty of Dentistry\, Centre for Advanced Dental Education \n\n\nEvent Type:\nCourse \n\n\nTarget Audience:\nGeneral Dentists \n\n\nTrainer / Instructor:\nProf Francesco Mannocci\nProf Peter Parashos\nAssoc Prof Victoria Yu\nDr Wataru Ode\nDr Noushad Rahim\nDr Francis Chan \n\n\nFlyer:\nView PDF \n\n\nOrganised by:\nNUS Centre for Advanced Dental Education \n\n\n\n\n\nProgramme Details:\nJoin us for a comprehensive exploration of contemporary endodontics with expert speakers from Kings College London\, the University of Melbourne\, and the National University of Singapore. \nGain access to six in-depth recorded webinars covering the latest techniques\, tools\, and philosophies shaping modern endodontic practice. \n\n\n\n\n\n\n    \n        Back
URL:https://www.dentistry.nus.edu.sg/event/dentalliance-webinars-from-access-to-apex-current-concepts-in-contemporary-endodontics/
CATEGORIES:Upcoming Events
ATTACH;FMTTYPE=image/png:https://www.dentistry.nus.edu.sg/wp-content/uploads/2025/04/banner-daweb24.png
END:VEVENT
BEGIN:VEVENT
DTSTART;TZID=UTC:20260227T180000
DTEND;TZID=UTC:20260227T193000
DTSTAMP:20260425T075556
CREATED:20260226T090226Z
LAST-MODIFIED:20260226T101101Z
UID:14415-1772215200-1772220600@www.dentistry.nus.edu.sg
SUMMARY:Human–Food Interaction through the Mouth: Integrating Oral and Food Sciences
DESCRIPTION:Date:\nFriday\, 27 Feb 2026\n6pm to 7.30pm \n\n\nVenue:\nLevel 9 Auditorium\, NUS Dentistry\, NUCOHS \n\n\nSpeaker:\nDr Kohei Yamaguchi \n\n\nView Info:\nRead More \n\n\n\n\nProgramme Details:\nSingapore is expected to become a super‐aged society by 2030\, increasing the need for geriatric dentistry. Interest in oral frailty is rising\, while the oral cavity – as the entry to the digestive system – offers a unique link between oral function\, food properties\, and nutrition. In Japan\, dentists help determine appropriate food textures and participate in decisions about nutrition routes\, including whether oral intake is feasible or whether alternative enteral feeding routes – such as gastrostomy feeding or nasogastric feeding – are required. \nBeyond nutrition\, eating together greatly contributes to well‐being. Because most foods ultimately reach people through the mouth\, collaboration between food scientists and oral and swallowing experts is key to ensuring that innovations translate into solutions for diverse real‐world needs. This talk explores the importance of oral intake and the human–food interaction mediated through the oral cavity. \n\n\n\n\n\n    \n        Back
URL:https://www.dentistry.nus.edu.sg/event/human-food-interaction-through-the-mouth-integrating-oral-and-food-sciences/
CATEGORIES:Upcoming Events
ATTACH;FMTTYPE=image/jpeg:https://www.dentistry.nus.edu.sg/wp-content/uploads/2026/02/image004-6.jpg
END:VEVENT
END:VCALENDAR