BEGIN:VCALENDAR
VERSION:2.0
PRODID:-//NUS Dentistry - ECPv6.6.3//NONSGML v1.0//EN
CALSCALE:GREGORIAN
METHOD:PUBLISH
X-WR-CALNAME:NUS Dentistry
X-ORIGINAL-URL:https://www.dentistry.nus.edu.sg
X-WR-CALDESC:Events for NUS Dentistry
REFRESH-INTERVAL;VALUE=DURATION:PT1H
X-Robots-Tag:noindex
X-PUBLISHED-TTL:PT1H
BEGIN:VTIMEZONE
TZID:UTC
BEGIN:STANDARD
TZOFFSETFROM:+0000
TZOFFSETTO:+0000
TZNAME:UTC
DTSTART:20260101T000000
END:STANDARD
END:VTIMEZONE
BEGIN:VEVENT
DTSTART;VALUE=DATE:20260708
DTEND;VALUE=DATE:20260906
DTSTAMP:20260423T005536
CREATED:20260422T040042Z
LAST-MODIFIED:20260422T040149Z
UID:14658-1783468800-1788652799@www.dentistry.nus.edu.sg
SUMMARY:Basic Course in Dental Implantology (Series 1)
DESCRIPTION:Date:\n8 July – 5 September 2026 \n\n\nVenue:\nLecture: Level 9\, Auditorium / Level 10\, Main Seminar Room\, NUS Faculty of Dentistry\, NUCOHS\nWorkshop: Simulation Laboratory\, Level 9\, NUS Faculty of Dentistry\, NUCOHS (Workshop) \n\n\nEvent Type:\nCourse \n\n\nTarget Audience:\nGeneral Dentists \n\n\nTrainer / Instructor:\nA/P Alvin Yeo\nA/P Fu Jia Hui\nA/P Keson Tan\nA/P Raymond Wong\nA/P Yeo Jin Fei\nAdj A/P Ansgar Cheng\nAdj A/P Benjamin Tan\nAdj A/P Dominic Leung\nAdj A/P Loh Fun Chee\nDr Aidan Yeo\nDr Ang Chee Wan\nDr Elvin Leong\nDr Frank Lee\nDr Ho Kok Sen\nDr Lim Li Zhen\nDr Matthias Chen\nDr Ode Wataru\nDr Wong Keng Mun \n\n\nFlyer:\nView PDF \n\n\nSchedule:\nView Schedule \n\n\nOrganised by:\nNUS Centre for Advanced Dental Education \n\n\n\n\n\nProgramme Details:\nThe Basic Course in Dental Implantology (BCDI) course is designed for general dentists who wish to have a basic knowledge of dental implants. \n\n\n\n\n\n\n    \n        Back\n    \n    \nRegister Now
URL:https://www.dentistry.nus.edu.sg/event/basic-course-in-dental-implantology-series-1-2026/
CATEGORIES:Upcoming Events
ATTACH;FMTTYPE=image/jpeg:https://www.dentistry.nus.edu.sg/wp-content/uploads/2026/04/BASIC-COURSE-IN-DENTAL-IMPLANTOLOGY-SERIES-1-4_page-0001.jpg
END:VEVENT
BEGIN:VEVENT
DTSTART;TZID=UTC:20260718T133000
DTEND;TZID=UTC:20260718T173000
DTSTAMP:20260423T005536
CREATED:20260320T023710Z
LAST-MODIFIED:20260421T042750Z
UID:14594-1784381400-1784395800@www.dentistry.nus.edu.sg
SUMMARY:Enhanced Protocol for Deep Caries Management
DESCRIPTION:Date:\nSaturday\, 18 July 2026\n1.30pm to 5.30pm \n\n\nVenue:\nNUS Dentistry Level 10 Main Seminar Room & NUCOHS Level 5 Clinic with Microscope and X-ray\, 9 Lower Kent Ridge Road\, Singapore 119085NUS Dentistry Level 10 Main Seminar Room & NUCOHS Level 5 Clinic with Microscope and X-ray\, 9 Lower Kent Ridge Road\, Singapore 119085 \n\n\nTrainer / Instructor:\nDr Jeannette Chua\nDr Wataru Ode\nDr Charmaine Kho\nDr William Toh \n\n\nView Info:\nRead More \n\n\n\n\nProgramme Details:\nThis focused workshop explores contemporary\, evidence-based approaches to managing deep carious lesions\, challenging the traditional reliance on conventional root canal therapy for extensively decayed teeth. The session will highlight key concepts\, such as caries progression\, pulpal diagnosis\, minimal intervention dentistry\, and biologically driven vital pulp therapy. This focused workshop explores contemporary\, evidence-based approaches to managing deep carious lesions\, challenging the traditional reliance on conventional root canal therapy for extensively decayed teeth. The session will highlight key concepts\, such as caries progression\, pulpal diagnosis\, minimal intervention dentistry\, and biologically driven vital pulp therapy. \n\n\n\n\n\n    \n        Back\n    \n    \nRegister now
URL:https://www.dentistry.nus.edu.sg/event/enhanced-protocol-for-deep-caries-management/
CATEGORIES:Upcoming Events
ATTACH;FMTTYPE=image/jpeg:https://www.dentistry.nus.edu.sg/wp-content/uploads/2026/03/Enhanced-Protocol-for-Deep-Caries-Management-2_cover_page-0001-1.jpg
END:VEVENT
END:VCALENDAR