BEGIN:VCALENDAR
VERSION:2.0
PRODID:-//Giving - ECPv6.6.3//NONSGML v1.0//EN
CALSCALE:GREGORIAN
METHOD:PUBLISH
X-ORIGINAL-URL:https://www.dentistry.nus.edu.sg/giving
X-WR-CALDESC:Events for Giving
REFRESH-INTERVAL;VALUE=DURATION:PT1H
X-Robots-Tag:noindex
X-PUBLISHED-TTL:PT1H
BEGIN:VTIMEZONE
TZID:UTC
BEGIN:STANDARD
TZOFFSETFROM:+0000
TZOFFSETTO:+0000
TZNAME:UTC
DTSTART:20250101T000000
END:STANDARD
END:VTIMEZONE
BEGIN:VEVENT
DTSTART;TZID=UTC:20251107T080000
DTEND;TZID=UTC:20251107T170000
DTSTAMP:20260425T013556
CREATED:20251125T072029Z
LAST-MODIFIED:20251125T072029Z
UID:4786-1762502400-1762534800@www.dentistry.nus.edu.sg
SUMMARY:An Evening of Thanks: Donor Appreciation Dinner 2025
DESCRIPTION:
URL:https://www.dentistry.nus.edu.sg/giving/event/an-evening-of-thanks-donor-appreciation-dinner-2025/
CATEGORIES:Past Events
ATTACH;FMTTYPE=image/jpeg:https://www.dentistry.nus.edu.sg/giving/wp-content/uploads/sites/6/2025/11/image001-2.jpg
END:VEVENT
END:VCALENDAR