BEGIN:VCALENDAR
VERSION:2.0
PRODID:-//Graduate Studies and Lifelong Learning - ECPv6.6.3//NONSGML v1.0//EN
CALSCALE:GREGORIAN
METHOD:PUBLISH
X-WR-CALNAME:Graduate Studies and Lifelong Learning
X-ORIGINAL-URL:https://www.dentistry.nus.edu.sg/gs
X-WR-CALDESC:Events for Graduate Studies and Lifelong Learning
REFRESH-INTERVAL;VALUE=DURATION:PT1H
X-Robots-Tag:noindex
X-PUBLISHED-TTL:PT1H
BEGIN:VTIMEZONE
TZID:UTC
BEGIN:STANDARD
TZOFFSETFROM:+0000
TZOFFSETTO:+0000
TZNAME:UTC
DTSTART:20250101T000000
END:STANDARD
END:VTIMEZONE
BEGIN:VEVENT
DTSTART;VALUE=DATE:20251004
DTEND;VALUE=DATE:20251116
DTSTAMP:20260420T160657
CREATED:20250902T032936Z
LAST-MODIFIED:20251224T035316Z
UID:6301-1759536000-1763251199@www.dentistry.nus.edu.sg
SUMMARY:Basic Course in Dental Implantology (Series 2)
DESCRIPTION:
URL:https://www.dentistry.nus.edu.sg/gs/event/basic-course-in-dental-implantology-series-2-2/
CATEGORIES:Workshops
ATTACH;FMTTYPE=image/jpeg:https://www.dentistry.nus.edu.sg/gs/wp-content/uploads/sites/10/2025/09/DSC_7643-min-scaled.jpg
END:VEVENT
BEGIN:VEVENT
DTSTART;TZID=UTC:20251115T090000
DTEND;TZID=UTC:20251115T173000
DTSTAMP:20260420T160657
CREATED:20250902T083130Z
LAST-MODIFIED:20250912T100839Z
UID:6307-1763197200-1763227800@www.dentistry.nus.edu.sg
SUMMARY:[SSG] Understanding Orofacial Pain (4th Run)
DESCRIPTION:
URL:https://www.dentistry.nus.edu.sg/gs/event/ssg-understanding-orofacial-pain-4th-run/
CATEGORIES:SSG Funded Workshops
ATTACH;FMTTYPE=image/png:https://www.dentistry.nus.edu.sg/gs/wp-content/uploads/sites/10/2024/11/Rectangle-3463538-3.png
END:VEVENT
END:VCALENDAR